BEGIN:VCALENDAR
VERSION:2.0
PRODID:-//L&#039;Inconnue - ECPv6.8.2.1//NONSGML v1.0//EN
CALSCALE:GREGORIAN
METHOD:PUBLISH
X-ORIGINAL-URL:https://linconnue.fr
X-WR-CALDESC:Évènements pour L&#039;Inconnue
REFRESH-INTERVAL;VALUE=DURATION:PT1H
X-Robots-Tag:noindex
X-PUBLISHED-TTL:PT1H
BEGIN:VTIMEZONE
TZID:Europe/Paris
BEGIN:DAYLIGHT
TZOFFSETFROM:+0100
TZOFFSETTO:+0200
TZNAME:CEST
DTSTART:20210328T010000
END:DAYLIGHT
BEGIN:STANDARD
TZOFFSETFROM:+0200
TZOFFSETTO:+0100
TZNAME:CET
DTSTART:20211031T010000
END:STANDARD
END:VTIMEZONE
BEGIN:VEVENT
DTSTART;TZID=Europe/Paris:20211201T180000
DTEND;TZID=Europe/Paris:20211201T193000
DTSTAMP:20260421T114001
CREATED:20211014T080337Z
LAST-MODIFIED:20211021T104754Z
UID:10000162-1638381600-1638387000@linconnue.fr
SUMMARY:Kasper T. Toeplitz
DESCRIPTION:[vc_row][vc_column width=”1/4″]Kasper T. ToeplitzRing Modulation\, en vrai...[vc_column_text css=”.vc_custom_1634139952600{padding-top: 0px !important;}” font_size=”10″][/vc_column_text][vc_column_text css=”.vc_custom_1634654241702{padding-top: 0px !important;}”]\n – OFF THE BEACH –  \nLibrairie Georges \nMercredi 1 décembre 2021 \n18h00 \n[/vc_column_text][vc_empty_space height=”10px”][vc_btn title=”Entrée libre” style=”flat” shape=”square” color=”inverse” size=”sm” align=”center” css_animation=”zoomIn” link=”target:_blank”][/vc_column][vc_column width=”3/4″][vc_single_image image=”1023″][/vc_column][/vc_row][vc_row css=”.vc_custom_1626946967049{padding-top: -10px !important;padding-right: 10px !important;padding-bottom: 10px !important;padding-left: 10px !important;background-color: #f7f7f7 !important;}”][vc_column width=”1/4″][vc_empty_space][vc_column_text color=”accent”]Einstein on the Beach\, scène nomade pour les pratiques sonores expérimentales\, improvisées et buissonnières\, s’associe à Rock & Chanson\, scène curieuse de musique\, pour inventer une saison sonore\, mouvante et imagée…[/vc_column_text][/vc_column][vc_column width=”3/4″ css=”.vc_custom_1626947044845{margin-top: 0px !important;}”][vc_empty_space][vc_column_text]Revue & Corrigée est une revue (comme son nom l’indique) dédiée aux pratiques sonores expérimentales (comme son nom ne l’indique pas forcément). Kasper T. Toeplitz est musicien et y tient une chronique\, Ring Modulation\, dans laquelle il parle de disques\, bien sûr\, mais nous raconte surtout une autre histoire de la musique\, celle des “outsiders” qui s’épanouissent dans les marges. L’idée me travaillait depuis un moment d’inviter des chroniqueurs à présenter en “live” leurs écrits sur la musique et le son et Kasper a accepté de se prêter au jeu. Alors\, en vrai\, ça donne quoi ?[/vc_column_text][vc_empty_space][vc_video link=”https://www.youtube.com/watch?v=ZnhmElf6gS4″][vc_empty_space][vc_video link=”https://soundcloud.com/kissthefrog_agency/kasper-t-toeplitz-dead-fish?utm_source=clipboard&utm_campaign=wtshare&utm_medium=widget&utm_content=https%253A%252F%252Fsoundcloud.com%252Fkissthefrog_agency%252Fkasper-t-toeplitz-dead-fish”][/vc_column][/vc_row][vc_row][vc_column][vc_empty_space]Librairie Georges - 300 Cr de la Libération[vc_gmaps link=”#E-8_JTNDaWZyYW1lJTIwc3JjJTNEJTIyaHR0cHMlM0ElMkYlMkZ3d3cuZ29vZ2xlLmNvbSUyRm1hcHMlMkZlbWJlZCUzRnBiJTNEJTIxMW0xOCUyMTFtMTIlMjExbTMlMjExZDI4MzAuNDY4OTcwMzQ3ODAzNCUyMTJkLTAuNTg5MzAwMzUzMzY0OTUzOSUyMTNkNDQuODEyMDA5ODA4ODIzNzUlMjEybTMlMjExZjAlMjEyZjAlMjEzZjAlMjEzbTIlMjExaTEwMjQlMjEyaTc2OCUyMTRmMTMuMSUyMTNtMyUyMTFtMiUyMTFzMHhkNTUyNzlkNmYzNmQ0NTclMjUzQTB4OGRkZDI4ZjE2ZjE3ZThlNSUyMTJzMzAwJTI1MjBDciUyNTIwZGUlMjUyMGxhJTI1MjBMaWIlMjVDMyUyNUE5cmF0aW9uJTI1MkMlMjUyMDMzNDAwJTI1MjBUYWxlbmNlJTIxNWUwJTIxM20yJTIxMXNmciUyMTJzZnIlMjE0djE2MzQyMDM3MTQ4MjQlMjE1bTIlMjExc2ZyJTIxMnNmciUyMiUyMHdpZHRoJTNEJTIyNjAwJTIyJTIwaGVpZ2h0JTNEJTIyNDUwJTIyJTIwc3R5bGUlM0QlMjJib3JkZXIlM0EwJTNCJTIyJTIwYWxsb3dmdWxsc2NyZWVuJTNEJTIyJTIyJTIwbG9hZGluZyUzRCUyMmxhenklMjIlM0UlM0MlMkZpZnJhbWUlM0U=”][/vc_column][/vc_row]
URL:https://linconnue.fr/event/kasper-t-toeplitz/
LOCATION:Librairie Georges\, 300 Cr de la Libération\, Talence\, 33400\, France
CATEGORIES:Concert
ATTACH;FMTTYPE=image/png:https://linconnue.fr/wp-content/uploads/2021/10/Kasper-T.-Toeplitz-1.png
END:VEVENT
END:VCALENDAR